Workbook

Sheet Reform FAQs
B1: YOUR MOST IMPORTANT REFORM QUESTIONS ANSWERED - SIMPLE & STRAIGHTFORWARD
A2: 1 | B2: Why was it necessary to remove fuel subsidy? Why was a gradual sequencing with stronger cushioning measures to protect citizens from the immediate impact not considered?
A3: =A2+1 -> 2 | B3: What was the rationale for devaluing the Naira and allowing it to float freely given the predictable impact on the economy that is heavily import dependent?
A4: =A3+1 -> 3 | B4: If revenue collection has surpassed target, why is government still borrowing and how is all the money being spent?
A5: =A4+1 -> 4 | B5: With current borrowing levels, is Nigeria at risk of a debt trap, and mortgaging the future generations?
A6: =A5+1 -> 5 | B6: With the increase in poverty levels while macroeconomic indicators are improving, how do these reforms translate into tangible benefits for ordinary citizens?
A7: =A6+1 -> 6 | B7: Why does government prioritise building external reserves rather than deploying some of the resources toward economic relief or poverty alleviation?
A8: =A7+1 -> 7 | B8: It is generally believed that the federal government retains the largest share of federation revenues, why isn't this reflected in more infrastructure and human development spending rather than overhead?
A9: =A8+1 -> 8 | B9: If reforms are working, why does Nigeria continue to attract mostly short-term portfolio ("hot money") inflows rather than sustained foreign direct investment?
A10: =A9+1 -> 9 | B10: How realistic is government's goal of achieving a USD 1 trillion economy by 2030, and what is the roadmap to get there?
A11: =A10+1 -> 10 | B11: What concrete, measurable milestones can citizens hold government to, to track whether these reforms are delivering as promised?

Sheet Publication
B1: SUBSIDY SAVINGS, HIGHER REVENUE AND BORROWING - HOW THE MONEY IS SPENT
B2: Period Covered: June 2023 to December 2025 | Prepared by Federal Ministry of Finance - August 2026
B4: TABLE A - SUBSIDY SAVINGS | F4: APPENDINX 2
B5: Government | C5: Notes | D5: N'Billion | G5: How the Reform Benefits Ordinary Nigerians
B6: FG | C6: 1 | D6: ='Receipts & Utilisation'!J10+'Receipts & Utilisation'!J13 -> 5426.0728 | F6: 1 | G6: Wage increases and timely payment of salaries and pensions
B7: States | C7: 1 | D7: ='Receipts & Utilisation'!J11 -> 6524.76 | F7: =F6+1 -> 2 | G7: Settlement of pension arrears and gratuities owed to retirees
B8: LGs | C8: 1 | D8: ='Receipts & Utilisation'!J12 -> 3876.1985 | F8: =F7+1 -> 3 | G8: Wealth creation for millions of Nigerians through capital market gains
B9: TOTAL | D9: =SUM(D6:D8) -> 15827.031 | F9: =F8+1 -> 4 | G9: Transformative infrastructure development nationwide
F10: =F9+1 -> 5 | G10: Top globally friendly student loan scheme (NELFUND) and affordable consumer/SME credit
B11: TABLE B - INCREMENTAL BORROWING | F11: =F10+1 -> 6 | G11: Subsidised mortgage and housing schemes, plus social transfers to most vulnerable
B12: Period | C12: Notes | D12: N'Billion | F12: =F11+1 -> 7 | G12: Agricultural interventions strengthening food security
B13: 2023 (Jun - Dec) | C13: 3 | D13: ='Receipts & Utilisation'!G45 -> -647.3294 | F13: =F12+1 -> 8 | G13: Fuel availability and energy security despite global shocks
B14: 2024 (Jan - Dec) | C14: 3 | D14: ='Receipts & Utilisation'!H45 -> 4402.6133 | F14: =F13+1 -> 9 | G14: Return of investor confidence, driving local and international investment
B15: 2025 (Jan - Dec) | C15: 3 | D15: ='Receipts & Utilisation'!I45 -> 8098.2578 | F15: =F14+1 -> 10 | G15: Tax exemption for low-income earners and small businesses, and a friendlier tax environment for all
B16: TOTAL | D16: =SUM(D13:D15) -> 11853.542
G17: Harm the Reforms Prevented
B18: TABLE C - OTHER INCREMENTAL REVENUES (FG ONLY) | F18: 1 | G18: Hyperinflation from unchecked printing of the Naira
B19: Description | C19: Notes | D19: N'Billion | F19: =F18+1 -> 2 | G19: Total collapse of the Naira's value
B20: Internally generated revenues | D20: ='Receipts & Utilisation'!J21 -> 0 | F20: =F19+1 -> 3 | G20: Fuel scarcity and disruption of economic activities
B21: Government Owned Entities | C21: 2 | D21: ='Receipts & Utilisation'!J22 -> 3124.5105 | F21: =F20+1 -> 4 | G21: Greater poverty across the country
B22: TOTAL | D22: =SUM(D20:D21) -> 3124.5105 | F22: =F21+1 -> 5 | G22: Worsening insecurity fueled by economic crisis
F23: =F22+1 -> 6 | G23: Mass business collapse and deeper job losses
B24: TABLE D - TOTAL INCREMENTAL RESOURCES (FG ONLY) | F24: =F23+1 -> 7 | G24: Corruption in FX allocation and fuel subsidy scheme
B25: Description | C25: Notes | D25: N'Billion | F25: =F24+1 -> 8 | G25: Bankruptcy of many states and local governments
B26: Subsidy savings (FG) | D26: =D6 -> 5426.0728 | F26: =F25+1 -> 9 | G26: Much higher interest rates
B27: Other incremental revenues | D27: =D22 -> 3124.5105 | F27: =F26+1 -> 10 | G27: Multiplicity of taxes deepening the taxation of poverty
B28: Incremental borrowing | D28: =D16 -> 11853.542
B29: TOTAL | D29: =SUM(D26:D28) -> 20404.125 | G29: Call to Action
F30: 1 | G30: Be a Citizen - Support positive government policies. We can not build our country by opposing every government action.
B31: TABLE E - HOW THE MONEY IS SPENT | F31: =F30+1 -> 2 | G31: Criticise Constructively - Don’t run your country down. Whatever we amplify shapes perception and ultimately our economic reality.
B32: Descriptions | C32: Notes | D32: N'Billion | F32: =F31+1 -> 3 | G32: Play Your Part - Seek facts and proper understanding - not populist views or sensational headlines.
B33: Ext. debt service – impact of exch rate depreciation | D33: ='Receipts & Utilisation'!J59 -> 9365.7083
B34: Wage adjustments (min. wage increase, wage awards, allowances) | D34: ='Receipts & Utilisation'!J56 -> 9386.8979 | F34: For more information: Visit www.finance.gov.ng
B35: Strategic infrastructure development | C35: 3E | D35: ='Receipts & Utilisation'!J57 -> 6465.3932
B36: Electricity subsidy (incremental amount) | D36: ='Receipts & Utilisation'!J58 -> 3138.1467
B37: Domestic debt service – Impact of MPC rate hike | D37: ='Receipts & Utilisation'!J60 -> 1240.2411
B38: FCT Development, Ecological Fund, Natural Resource Inv etc | D38: ='Receipts & Utilisation'!J13 -> 419.10035
B39: Social welfare transfers | D39: ='Receipts & Utilisation'!J61 -> 423.8
B40: Higher naira cost of foreign obligations | D40: ='Receipts & Utilisation'!J62 -> 201.25717
B41: Total incremental expenses | D41: =SUM(D33:D40) -> 30640.545
...

Sheet Receipts & Utilisation
B1: NOTE 1
B2: SUBSIDY SAVINGS - JUNE 2023 TO DECEMBER 2025
B3: Description | E3: Notes | F3: 2022 [Pre-subsidy removal] | G3: 2023 | H3: 2024 | I3: 2025 | J3: Total
B4: Period covered | F4: Jun 2022 - May 2023 | G4: June-Dec | H4: Jan-Dec | I4: Jan-Dec | J4: June 2023 - Dec 2025
F5: NGN'Billion | G5: NGN'Billion | H5: NGN'Billion | I5: NGN'Billion | J5: NGN'Billion
B6: Net FAAC revenue (actual) | E6: 1A | F6: =SUM(FAAC!E11:E17)+SUM(FAAC!E26:E30) -> 9511.961 | G6: =SUM(FAAC!E31:E37) -> 6843.146 | H6: =FAAC!E58 -> 15259.004 | I6: =FAAC!E78 -> 21897.289 | J6: =SUM(G6:I6) -> 43999.439
B7: Net FAAC revenue (without subsidy removal) | D7: 0.08 | E7: 1B | F7: =F6 -> 9511.961 | G7: =(F7/12*7)*(100%+(D7/12*7)) -> 5807.5806 | H7: =(G7/7*12)*(1+D7) -> 10752.321 | I7: =H7*(1+D7) -> 11612.506 | J7: =SUM(G7:I7) -> 28172.408
B8: Subsidy Savings | F8: =F6-F7 -> 0 | G8: =G6-G7 -> 1035.5654 | H8: =H6-H7 -> 4506.6833 | I8: =I6-I7 -> 10284.783 | J8: =J6-J7 -> 15827.031
B9: Distribution of savings:
B10: Allocated to: | C10: Federal Government | E10: 1A | F10: 0 | G10: =FAAC!F39*'Receipts & Utilisation'!G8 -> 357.9637 | H10: =FAAC!F59*'Receipts & Utilisation'!H8 -> 1349.8267 | I10: =FAAC!F79*'Receipts & Utilisation'!I8 -> 3299.182 | J10: =SUM(F10:I10) -> 5006.9724
C11: States | E11: 1A | F11: 0 | G11: =FAAC!G39*'Receipts & Utilisation'!G8 -> 399.03091 | H11: =FAAC!G59*'Receipts & Utilisation'!H8 -> 1929.6196 | I11: =FAAC!G79*'Receipts & Utilisation'!I8 -> 4196.1095 | J11: =SUM(F11:I11) -> 6524.76
C12: Local governments | E12: 1A | F12: 0 | G12: =FAAC!H39*'Receipts & Utilisation'!G8 -> 248.39111 | H12: =FAAC!H59*'Receipts & Utilisation'!H8 -> 1114.7523 | I12: =FAAC!H79*'Receipts & Utilisation'!I8 -> 2513.0551 | J12: =SUM(F12:I12) -> 3876.1985
C13: Others - Ecological Fund, Stabilisation Fund, Dev of Nat. Resources, FCT | E13: 1A | F13: 0 | G13: =G8-G10-G11-G12 -> 30.179654 | H13: =H8-H10-H11-H12 -> 112.48466 | I13: =I8-I10-I11-I12 -> 276.43604 | J13: =J8-J10-J11-J12 -> 419.10035
C14: Total net savings | F14: =SUM(F10:F12) -> 0 | G14: =SUM(G10:G13) -> 1035.5654 | H14: =SUM(H10:H13) -> 4506.6833 | I14: =SUM(I10:I13) -> 10284.783 | J14: =SUM(J10:J13) -> 15827.031
B16: NOTE 2
B17: OTHER INCREMENTAL REVENUE - JUNE 2023 TO DECEMBER 2025
B18: Description | E18: Notes | F18: 2022 [Pre-subsidy removal] | G18: 2023 | H18: 2024 | I18: 2025 | J18: Total
B19: Period covered | F19: Jun 2022 - May 2023 | G19: June-Dec | H19: Jan-Dec | I19: Jan-Dec | J19: June 2023 - Dec 2025
F20: NGN'Billion | G20: NGN'Billion | H20: NGN'Billion | I20: NGN'Billion | J20: NGN'Billion
B21: Government Owned Entities - FG | F21: 0 | G21: 0 | H21: 0 | I21: 0 | J21: =SUM(G21:I21) -> 0
B22: Other Independent Revenues - FG | F22: =(IGR!F7/1000000000)/12*5+(IGR!G6/1000000000) -> 1452.8908 | G22: =IGR!H9/1000000000 -> -336.9143 | H22: =IGR!I9/1000000000 -> 1551.443 | I22: =IGR!J9/1000000000 -> 1909.9818 | J22: =SUM(G22:I22) -> 3124.5105
B23: Total IGR - Actual | F23: =SUM(F21:F22) -> 1452.8908 | G23: =SUM(G21:G22) -> -336.9143 | H23: =SUM(H21:H22) -> 1551.443 | I23: =SUM(I21:I22) -> 1909.9818 | J23: =SUM(G23:I23) -> 3124.5105
B24: Total IGR at normal growth rate | D24: =IGR!K10 -> 0.60930133 | J24: =SUM(G24:I24) -> 0
B25: Incremental IGR | F25: =F23-F24 -> 1452.8908 | G25: =G23-G24 -> -336.9143 | H25: =H23-H24 -> 1551.443 | I25: =I23-I24 -> 1909.9818 | J25: =J23-J24 -> 3124.5105
B27: NOTE 3
B28: INCREMENTAL BORROWING - JUNE 2023 TO DECEMBER 2025
B29: Description | E29: Notes | F29: Jun 2023 [pre-reform) | G29: Dec 2023 | H29: Dec 2024 | I29: Dec 2025 | J29: Total
B30: Total public debt: | F30: Billion | G30: Billion | H30: Billion | I30: Billion | J30: Billion
C31: External (USD) | E31: 2 | F31: =Debt!C5/1000 -> 42.6717 | G31: =Debt!E5/1000 -> 42.49516 | H31: =Debt!G5/1000 -> 45.78045 | I31: =Debt!I5/1000 -> 51.85603 | K31: Balances per DMO
C32: Exchange rate [USD to NGN] | E32: 2 | F32: 460.35 | G32: =Debt!E10 -> 907.11 | H32: =Debt!G10 -> 1535 | I32: =Debt!I10 -> 1450.3 | K32: Applicable closing exch rates
C33: Naira value of external debt | F33: =F31*F32 -> 19643.917 | G33: =G31*G32 -> 38547.785 | H33: =H31*H32 -> 70272.991 | I33: =I31*I32 -> 75206.8
C34: Domestic debt component (NGN) | E34: 2 | F34: =(Debt!D9/1000)-'Receipts & Utilisation'!F33 -> 30209.768 | G34: =Debt!F6/1000 -> 59120.859 | H34: =Debt!H6/1000 -> 74377.92 | I34: =Debt!J6/1000 -> 84849.334
C35: Total public debt (NGN) | F35: =SUM(F33:F34) -> 49853.685 | G35: =SUM(G33:G34) -> 97668.643 | H35: =SUM(H33:H34) -> 144650.91 | I35: =SUM(I33:I34) -> 160056.13
B36: Adjustments:
C37: States debt portion | E37: 2 | F37: =Debt!D8/1000 -> 5478.9936 | G37: =Debt!F8/1000 -> 5862.8469 | H37: =Debt!H8/1000 -> 3968.0573 | I37: =Debt!J8/1000 -> 4360.4688
C38: Exch rate valuation of opening external debt | F38: 0 | G38: =F31*(G32-F32) -> 19064.009 | H38: =(G31*(H32-G32)+G38) -> 45746.295 | I38: =(H31*(I32-H32)+H38) -> 41868.691 | K38: Adjust for exch rate impact of debt stock
C39: Previously unreported Ways & Means | F39: 0 | G39: 22719 | H39: =7000+G39 -> 29719 | I39: =H39 -> 29719 | K39: Cummulative Ways & Means Securitised.
C40: Total adjustments | F40: =SUM(F37:F39) -> 5478.9936 | G40: =SUM(G37:G39) -> 47645.856 | H40: =SUM(H37:H39) -> 79433.352 | I40: =SUM(I37:I39) -> 75948.159
B42: Public debt stock (FGN) | F42: =F35-F40 -> 44374.692 | G42: =G35-G40 -> 50022.788 | H42: =H35-H40 -> 65217.559 | I42: =I35-I40 -> 84107.975
B43: Net borrowing post reform (FGN) | F43: 0 | G43: =G42-F42 -> 5648.0961 | H43: =H42-G42 -> 15194.771 | I43: =I42-H42 -> 18890.416 | J43: =SUM(F43:I43) -> 39733.283 | K43: IMF debt repayment?
...

Sheet FAAC
B2: NOTE 1A - FAAC ANALYSIS | L2: FAAC ANALYSIS
B4: 2022 | C4: Gross | D4: Deductions | E4: Net | F4: FG | G4: States | H4: LGs | I4: Others | L4: 2022 | M4: Gross | N4: Deductions | O4: Net | P4: FG | Q4: States | R4: LGs | S4: Others
C5: N'Billion | D5: N'Billion | E5: N'Billion | F5: N'Billion | G5: N'Billion | H5: N'Billion | I5: N'Billion | M5: N'Billion | N5: N'Billion | O5: N'Billion | P5: N'Billion | Q5: N'Billion | R5: N'Billion | S5: N'Billion
B6: January | C6: 0 | D6: 0 | E6: =C6-D6 -> 0 | F6: 0 | G6: 0 | H6: 0 | I6: 0 | L6: January | M6: 0 | N6: 0 | O6: 0 | P6: 0 | Q6: 0 | R6: 0 | S6: 0
B7: February | C7: 0 | D7: 0 | E7: =C7-D7 -> 0 | F7: 0 | G7: 0 | H7: 0 | I7: 0 | L7: February | M7: 0 | N7: 0 | O7: 0 | P7: 0 | Q7: 0 | R7: 0 | S7: 0
B8: March | C8: 0 | D8: 0 | E8: =C8-D8 -> 0 | F8: 0 | G8: 0 | H8: 0 | I8: 0 | L8: March | M8: 0 | N8: 0 | O8: 0 | P8: 0 | Q8: 0 | R8: 0 | S8: 0
B9: April | C9: 0 | D9: 0 | E9: =C9-D9 -> 0 | F9: 0 | G9: 0 | H9: 0 | I9: 0 | L9: April | M9: 0 | N9: 0 | O9: 0 | P9: 0 | Q9: 0 | R9: 0 | S9: 0
B10: May | C10: 0 | D10: 0 | E10: =C10-D10 -> 0 | F10: 0 | G10: 0 | H10: 0 | I10: 0 | L10: May | M10: 0 | N10: 0 | O10: 0 | P10: 0 | Q10: 0 | R10: 0 | S10: 0
B11: June | C11: ='2022'!J25 -> 904.45 | D11: ='2022'!J27+'2022'!J28 -> 223.668 | E11: =C11-D11 -> 680.782 | F11: ='2022'!J31 -> 211.911 | G11: ='2022'!J32+'2022'!J34 -> 275.277 | H11: ='2022'!J33 -> 175.942 | I11: ='2022'!J42 -> 17.652 | L11: June | M11: 904.45 | N11: 223.668 | O11: 680.782 | P11: 211.911 | Q11: 275.277 | R11: 175.942 | S11: 17.652
B12: July | C12: ='2022'!K25 -> 1220.211 | D12: ='2022'!K27+'2022'!K28 -> 417.806 | E12: =C12-D12 -> 802.405 | F12: ='2022'!K31 -> 296.69 | G12: ='2022'!K32+'2022'!K34 -> 298.217 | H12: ='2022'!K33 -> 182.33 | I12: ='2022'!K42 -> 25.168 | L12: July | M12: 1220.211 | N12: 417.806 | O12: 802.405 | P12: 296.69 | Q12: 298.217 | R12: 182.33 | S12: 25.168
B13: August | C13: ='2022'!L25 -> 1257.101 | D13: ='2022'!L27+'2022'!L28 -> 303.017 | E13: =C13-D13 -> 954.084 | F13: ='2022'!L31 -> 374.683 | G13: ='2022'!L32+'2022'!L34 -> 336.857 | H13: ='2022'!L33 -> 210.617 | I13: ='2022'!L42 -> 31.927 | L13: August | M13: 1257.101 | N13: 303.017 | O13: 954.084 | P13: 374.683 | Q13: 336.857 | R13: 210.617 | S13: 31.927
B14: September | C14: ='2022'!M25 -> 885.531 | D14: ='2022'!M27+'2022'!M28 -> 212.394 | E14: =C14-D14 -> 673.137 | F14: ='2022'!M31 -> 239.448 | G14: ='2022'!M32+'2022'!M34 -> 249.25 | H14: ='2022'!M33 -> 164.247 | I14: ='2022'!M42 -> 20.192 | L14: September | M14: 885.531 | N14: 212.394 | O14: 673.137 | P14: 239.448 | Q14: 249.25 | R14: 164.247 | S14: 20.192
B15: October | C15: ='2022'!N25 -> 1098.182 | D15: ='2022'!N27+'2022'!N28 -> 337.947 | E15: =C15-D15 -> 760.235 | F15: ='2022'!N31 -> 271.273 | G15: ='2022'!N32+'2022'!N34 -> 293.215 | H15: ='2022'!N33 -> 172.777 | I15: ='2022'!N42 -> 22.97 | L15: October | M15: 1098.182 | N15: 337.947 | O15: 760.235 | P15: 271.273 | Q15: 293.215 | R15: 172.777 | S15: 22.97
B16: November | C16: ='2022'!O25 -> 957.085 | D16: ='2022'!O27+'2022'!O28 -> 220.304 | E16: =C16-D16 -> 736.781 | F16: ='2022'!O31 -> 271.036 | G16: ='2022'!O32+'2022'!O34 -> 265.74 | H16: ='2022'!O33 -> 177.087 | I16: ='2022'!O42 -> 22.918 | L16: November | M16: 957.085 | N16: 220.304 | O16: 736.781 | P16: 271.036 | Q16: 265.74 | R16: 177.087 | S16: 22.918
B17: December | C17: ='2022'!P25 -> 1175.036 | D17: ='2022'!P27+'2022'!P28 -> 272.983 | E17: =C17-D17 -> 902.053 | F17: ='2022'!P31 -> 330.474 | G17: ='2022'!P32+'2022'!P34 -> 341.053 | H17: ='2022'!P33 -> 202.486 | I17: ='2022'!P42 -> 28.04 | L17: December | M17: 1175.036 | N17: 272.983 | O17: 902.053 | P17: 330.474 | Q17: 341.053 | R17: 202.486 | S17: 28.04
B18: TOTAL | C18: =SUM(C6:C17) -> 7497.596 | D18: =SUM(D6:D17) -> 1988.119 | E18: =SUM(E6:E17) -> 5509.477 | F18: =SUM(F6:F17) -> 1995.515 | G18: =SUM(G6:G17) -> 2059.609 | H18: =SUM(H6:H17) -> 1285.486 | I18: =SUM(I6:I17) -> 168.867 | L18: TOTAL | M18: 7497.596 | N18: 1988.119 | O18: 5509.477 | P18: 1995.515 | Q18: 2059.609 | R18: 1285.486 | S18: 168.867
B19: Share of net FAAC | C19: =100% -> 1 | D19: =D18/C18 -> 0.26516753 | E19: =E18/C18 -> 0.73483247 | F19: =F18/E18 -> 0.36219681 | G19: =G18/E18 -> 0.37383022 | H19: =H18/E18 -> 0.23332269 | I19: =I18/E18 -> 0.030650278 | L19: Share of net FAAC | M19: 1 | N19: 0.26516753 | O19: 0.73483247 | P19: 0.36219681 | Q19: 0.37383022 | R19: 0.23332269 | S19: 0.030650278
B20: Note: | L20: Note:
B21: Others is made up of Ecological Fund (1%), Stabilisation Fund (0.5%), Development of Natural Resources (1.68%), FCT 1% | L21: Others is made up of Ecological Fund (1%), Stabilisation Fund (0.5%), Development of Natural Resources (1.68%), FCT 1%
B22: Deductions comprise Statutory Transfers, Cost of Collections, Intervention, Refunds, Savings & Investments | L22: Deductions comprise Statutory Transfers, Cost of Collections, Intervention, Refunds, Savings & Investments
B24: 2023 | C24: Gross | D24: Deductions | E24: Net | F24: FG | G24: States | H24: LGs | I24: Others | L24: 2023 | M24: Gross | N24: Deductions | O24: Net | P24: FG | Q24: States | R24: LGs | S24: Others
C25: N'Billion | D25: N'Billion | E25: N'Billion | F25: N'Billion | G25: N'Billion | H25: N'Billion | I25: N'Billion | M25: N'Billion | N25: N'Billion | O25: N'Billion | P25: N'Billion | Q25: N'Billion | R25: N'Billion | S25: N'Billion
B26: January | C26: ='2023'!E25 -> 1436.865 | D26: =C26-E26 -> 446.675 | E26: ='2023'!E29 -> 990.19 | F26: ='2023'!E31 -> 346.016 | G26: ='2023'!E32+'2023'!E34 -> 393.077 | H26: ='2023'!E33 -> 221.807 | I26: ='2023'!E41 -> 29.29 | L26: January | M26: 1436.865 | N26: 446.675 | O26: 990.19 | P26: 346.016 | Q26: 393.077 | R26: 221.807 | S26: 29.29
B27: February | C27: ='2023'!F25 -> 1032.512 | D27: =C27-E27 -> 282.339 | E27: ='2023'!F29 -> 750.173 | F27: ='2023'!F31 -> 263.071 | G27: ='2023'!F32+'2023'!F34 -> 281.713 | H27: ='2023'!F33 -> 183.225 | I27: ='2023'!F41 -> 22.164 | L27: February | M27: 1032.512 | N27: 282.339 | O27: 750.173 | P27: 263.071 | Q27: 281.713 | R27: 183.225 | S27: 22.164
B28: March | C28: ='2023'!G25 -> 860.035 | D28: =C28-E28 -> 137.358 | E28: ='2023'!G29 -> 722.677 | F28: ='2023'!G31 -> 248.162 | G28: ='2023'!G32+'2023'!G34 -> 279.679 | H28: ='2023'!G33 -> 173.935 | I28: ='2023'!G41 -> 20.901 | L28: March | M28: 860.035 | N28: 137.358 | O28: 722.677 | P28: 248.162 | Q28: 279.679 | R28: 173.935 | S28: 20.901
B29: April | C29: ='2023'!H25 -> 872.55 | D29: =C29-E29 -> 157.922 | E29: ='2023'!H29 -> 714.628 | F29: ='2023'!H31 -> 254.643 | G29: ='2023'!H32+'2023'!H34 -> 267.231 | H29: ='2023'!H33 -> 171.257 | I29: ='2023'!H41 -> 21.497 | L29: April | M29: 872.55 | N29: 157.922 | O29: 714.628 | P29: 254.643 | Q29: 267.231 | R29: 171.257 | S29: 21.497
B30: May | C30: ='2023'!I25 -> 976.337 | D30: =C30-E30 -> 151.521 | E30: ='2023'!I29 -> 824.816 | F30: ='2023'!I31 -> 253.588 | G30: ='2023'!I32+'2023'!I34 -> 336.31 | H30: ='2023'!I33 -> 213.672 | I30: ='2023'!I41 -> 21.246 | L30: May | M30: 976.337 | N30: 151.521 | O30: 824.816 | P30: 253.588 | Q30: 336.31 | R30: 213.672 | S30: 21.246
B31: June | C31: ='2023'!J25 -> 1134.026 | D31: =C31-E31 -> 201.431 | E31: ='2023'!J29 -> 932.595 | F31: ='2023'!J31 -> 340.229 | G31: ='2023'!J32+'2023'!J34 -> 341.808 | H31: ='2023'!J33 -> 221.786 | I31: ='2023'!J41 -> 28.772 | L31: June | M31: 1134.026 | N31: 201.431 | O31: 932.595 | P31: 340.229 | Q31: 341.808 | R31: 221.786 | S31: 28.772
B32: July | C32: ='2023'!K25 -> 1886.301 | D32: =C32-E32 -> 979.247 | E32: ='2023'!K29 -> 907.054 | F32: ='2023'!K31 -> 318.686 | G32: ='2023'!K32+'2023'!K34 -> 343.426 | H32: ='2023'!K33 -> 218.064 | I32: ='2023'!K41 -> 26.878 | L32: July | M32: 1886.301 | N32: 979.247 | O32: 907.054 | P32: 318.686 | Q32: 343.426 | R32: 218.064 | S32: 26.878
B33: August | C33: ='2023'!L25 -> 1802.802 | D33: =C33-E33 -> 798.627 | E33: ='2023'!L29 -> 1004.175 | F33: ='2023'!L31 -> 361.374 | G33: ='2023'!L32+'2023'!L34 -> 376.012 | H33: ='2023'!L33 -> 236.232 | I33: ='2023'!L41 -> 30.557 | L33: August | M33: 1802.802 | N33: 798.627 | O33: 1004.175 | P33: 361.374 | Q33: 376.012 | R33: 236.232 | S33: 30.557
B34: September | C34: ='2023'!M25 -> 1483.904 | D34: =C34-E34 -> 383.801 | E34: ='2023'!M29 -> 1100.103 | F34: ='2023'!M31 -> 397.666 | G34: ='2023'!M32+'2023'!M34 -> 402.319 | H34: ='2023'!M33 -> 266.539 | I34: ='2023'!M41 -> 33.579 | L34: September | M34: 1483.904 | N34: 383.801 | O34: 1100.103 | P34: 397.666 | Q34: 402.319 | R34: 266.539 | S34: 33.579
B35: October | C35: ='2023'!N25 -> 1594.764 | D35: =C35-E35 -> 691.283 | E35: ='2023'!N29 -> 903.481 | F35: ='2023'!N31 -> 295.668 | G35: ='2023'!N32+'2023'!N34 -> 372.037 | H35: ='2023'!N33 -> 210.9 | I35: ='2023'!N41 -> 24.876 | L35: October | M35: 1594.764 | N35: 691.283 | O35: 903.481 | P35: 295.668 | Q35: 372.037 | R35: 210.9 | S35: 24.876
B36: November | C36: ='2023'!O25 -> 1346.52 | D36: =C36-E36 -> 439.564 | E36: ='2023'!O29 -> 906.956 | F36: ='2023'!O31 -> 298.342 | G36: ='2023'!O32+'2023'!O34 -> 358.392 | H36: ='2023'!O33 -> 225.21 | I36: ='2023'!O41 -> 25.012 | L36: November | M36: 1346.52 | N36: 439.564 | O36: 906.956 | P36: 298.342 | Q36: 358.392 | R36: 225.21 | S36: 25.012
B37: December | C37: ='2023'!P25 -> 1620.334 | D37: =C37-E37 -> 531.552 | E37: ='2023'!P29 -> 1088.782 | F37: ='2023'!P31 -> 371.562 | G37: ='2023'!P32+'2023'!P34 -> 427.106 | H37: ='2023'!P33 -> 258.81 | I37: ='2023'!P41 -> 31.304 | L37: December | M37: 1620.334 | N37: 531.552 | O37: 1088.782 | P37: 371.562 | Q37: 427.106 | R37: 258.81 | S37: 31.304
B38: TOTAL | C38: =SUM(C26:C37) -> 16046.95 | D38: =SUM(D26:D37) -> 5201.32 | E38: =SUM(E26:E37) -> 10845.63 | F38: =SUM(F26:F37) -> 3749.007 | G38: =SUM(G26:G37) -> 4179.11 | H38: =SUM(H26:H37) -> 2601.437 | I38: =SUM(I26:I37) -> 316.076 | L38: TOTAL | M38: 16046.95 | N38: 5201.32 | O38: 10845.63 | P38: 3749.007 | Q38: 4179.11 | R38: 2601.437 | S38: 316.076
B39: Share of net FAAC | C39: =100% -> 1 | D39: =D38/C38 -> 0.32413138 | E39: =E38/C38 -> 0.67586862 | F39: =F38/E38 -> 0.34566982 | G39: =G38/E38 -> 0.38532662 | H39: =H38/E38 -> 0.23986039 | I39: =I38/E38 -> 0.029143166 | L39: Share of net FAAC | M39: 1 | N39: 0.32413138 | O39: 0.67586862 | P39: 0.34566982 | Q39: 0.38532662 | R39: 0.23986039 | S39: 0.029143166
B40: Note: | L40: Note:
B41: Others is made up of Ecological Fund (1%), Stabilisation Fund (0.5%), Development of Natural Resources (1.68%), FCT 1% | L41: Others is made up of Ecological Fund (1%), Stabilisation Fund (0.5%), Development of Natural Resources (1.68%), FCT 1%
B42: Deductions comprise Statutory Transfers, Cost of Collections, Intervention, Refunds, Savings & Investments | L42: Deductions comprise Statutory Transfers, Cost of Collections, Intervention, Refunds, Savings & Investments
B44: 2024 | C44: Gross | D44: Deductions | E44: Net | F44: FG | G44: States | H44: LGs | I44: Others | L44: 2024 | M44: Gross | N44: Deductions | O44: Net | P44: FG | Q44: States | R44: LGs | S44: Others
...

Sheet IGR
C2: NOTE 1C - OTHER INCREMENTAL REVENUES | H2: =AVERAGE(E10:G10) -> 0.60930133
D3: 2020 | E3: 2021 | F3: 2022 | G3: Jan-May 2023 | H3: Jun-Dec 2023 | I3: 2024 | J3: 2025 | K3: TOTAL
D4: N'Billion | E4: N'Billion | F4: N'Billion | G4: N'Billion | H4: N'Billion | I4: N'Billion | J4: N'Billion | K4: June 2023 to December 2025
C5: GOEs | D5: =R25 -> - | E5: =Q57 -> 0 | F5: 0.1 | G5: 0.1 | H5: =SUM(I113:O113) -> 0 | I5: =Q135 -> - | J5: =P177 -> -
C6: IGR | D6: =R36 -> 5.3290359e+11 | E6: =Q68 -> 1.0511318e+12 | F6: =R97 -> 1.3624999e+12 | G6: =SUM(D123:H123) -> 8.8518255e+11 | H6: =SUM(I123:O123) -> 9.0234127e+11 | I6: =Q153 -> 3.6758811e+12 | J6: =P196 -> 4.0344199e+12 | K6: =SUM(H6:J6) -> 8.6126423e+12
C7: Total | D7: =SUM(D5:D6) -> 5.3290359e+11 | E7: =SUM(E5:E6) -> 1.0511318e+12 | F7: =SUM(F5:F6) -> 1.3624999e+12 | G7: =SUM(G5:G6) -> 8.8518255e+11 | H7: =SUM(H5:H6) -> 9.0234127e+11 | I7: =SUM(I5:I6) -> 3.6758811e+12 | J7: =SUM(J5:J6) -> 4.0344199e+12 | K7: =SUM(H7:J7) -> 8.6126423e+12
C8: Pre-reform IGR | H8: =(G7/5*7) -> 1.2392556e+12 | I8: =(G7/5*12) -> 2.1244381e+12 | J8: =(G7/5*12) -> 2.1244381e+12 | K8: =SUM(H8:J8) -> 5.4881318e+12 | L8: Pre reform revenue level used for post reform period due to irregular pre reform growth rate.
C9: TOTAL | G9: =SUM(G8:G8) -> 0 | H9: =H7-H8 -> -3.369143e+11 | I9: =I7-I8 -> 1.551443e+12 | J9: =J7-J8 -> 1.9099818e+12 | K9: =SUM(H9:J9) -> 3.1245105e+12
C10: Average growth rate | E10: =(E7-D7)/D7 -> 0.97246155 | F10: =(F7-E7)/E7 -> 0.2962217 | G10: =((G7/5*12)-F7)/F7 -> 0.55922075 | K10: =AVERAGE(E10:G10) -> 0.60930133
C11: Source: Min of Finance Analysis
C12: Update with actual figures
B18: SUMMARY OF IGR PERFOMANCE : JANUARY - DECEMBER, 2020
B19: S/n | C19: AGENCY | D19: Jan | E19: Feb | F19: Mar | G19: Apr | H19: May | I19: Jun | J19: Jul | K19: AGENCY | L19: Aug | M19: Sept | N19: Oct | O19: Nov | P19: Dec | Q19: BUDGET PROJECTION | R19: GRAND TOTAL | S19: VARIANCE
D20: =N= | E20: =N= | F20: =N= | G20: =N= | H20: =N= | I20: =N= | J20: =N= | L20: =N= | M20: =N= | N20: =N= | O20: =N= | P20: =N= | Q20: =N= | R20: =N= | S20: =N=
B21: i | C21: Ministries | K21: Ministries | R21: -
B22: ii | C22: Extra-Ministerial Department | K22: Extra-Ministerial Department | R22: -
B23: iii | C23: Parastatals | K23: Parastatals | R23: -
B24: iv | C24: Federal Pay Offices | K24: Federal Pay Offices | R24: -
C25: SUB-TOTAL MDAS IGR(A) | K25: SUB-TOTAL MDAS IGR(A) | Q25: - | R25: - | S25: -
B26: v | C26: Operating Surplus | D26: 2.1855774e+08 | E26: 1.2144409e+10 | F26: 5.3859761e+09 | G26: 9500000000 | H26: 4.9126281e+09 | I26: 3.6267973e+09 | J26: 4.6429574e+09 | K26: Operating Surplus | L26: 4.3534487e+10 | M26: 2.8726071e+10 | N26: 2.3153248e+09 | O26: 2.7316707e+10 | P26: 9.5147578e+09 | Q26: - | R26: 1.5183867e+11 | S26: -
B27: vi | C27: Rent | K27: Rent | R27: -
B28: vii | C28: Monetisation (JP Morgan) | K28: Monetisation (JP Morgan) | M28: 8.0990803e+09 | R28: 8.0990803e+09
B29: v | C29: Others (CRF) | D29: 4.4789735e+09 | E29: 3.774723e+09 | F29: 5.2904489e+09 | G29: 1.3552425e+09 | H29: 2.4834169e+09 | I29: 1.6562871e+10 | J29: 2.6779371e+09 | K29: Others (CRF) | L29: 1.028705e+10 | M29: 9.9945552e+08 | N29: 1.2691482e+10 | O29: 4.6006207e+10 | P29: 6.5401031e+09 | R29: 1.1314791e+11
B30: vi | C30: Others (SUB REC) | D30: 6.6745183e+09 | E30: 1.7682245e+10 | F30: 2.3287836e+10 | G30: 3.3139251e+08 | H30: 1.2942936e+10 | I30: 1.2051978e+10 | J30: 2.7382301e+10 | K30: Others (SUB REC) | L30: 2.1972862e+10 | M30: 2.7532664e+10 | N30: 2.6463858e+08 | O30: 1.2500869e+09 | P30: 5.8259298e+10 | R30: 2.0963276e+11
C31: Others (TSA/CDF) | D31: 62092421 | E31: 61945961 | F31: 4.2349874e+08 | G31: 5.4101649e+09 | H31: 2.1075166e+09 | I31: 6.0945695e+08 | J31: 1.9748444e+10 | K31: Others (TSA/CDF) | L31: 1.8985122e+08 | M31: 1.8975579e+08 | N31: 8.3660789e+08 | P31: 1.319013e+09 | R31: 3.0958348e+10
B32: vii | C32: NON CLASSIFICATION | K32: NON CLASSIFICATION | R32: -
B33: v | C33: Refund (NMRB) | G33: - | K33: Refund (NMRB) | R33: -
C34: Spectrum Fees | K34: Spectrum Fees | N34: 1.9226823e+10 | R34: 1.9226823e+10
B35: vi | C35: Dividened | K35: Dividened | R35: -
B36: SUB TOTAL MOFI(B) | D36: 1.1434142e+10 | E36: 3.3663323e+10 | F36: 3.4387759e+10 | G36: 1.65968e+10 | H36: 2.2446498e+10 | I36: 3.2851103e+10 | J36: 5.445164e+10 | K36: Sub-Total | L36: 7.598425e+10 | M36: 6.5547027e+10 | N36: 3.5334876e+10 | O36: 7.4573001e+10 | P36: 7.5633172e+10 | R36: 5.3290359e+11
C37: Net Consolidated Revenue (PIT, PAYE) | K37: Net Consolidated Revenue (PIT, PAYE)
B38: xi | C38: FCT | D38: - | E38: - | F38: - | G38: - | H38: - | I38: - | K38: FCT
B39: xii | C39: FGN | D39: - | E39: - | F39: - | G39: - | H39: - | I39: - | J39: - | K39: FGN
C40: SUB-TOTAL CONSOLIDATED (C) | D40: - | E40: - | F40: - | G40: - | H40: - | I40: - | J40: - | K40: SUB-TOTAL CONSOLIDATED (C)
C41: GRAND TOTAL(A+B) | D41: 1.1434142e+10 | E41: 3.3663323e+10 | F41: 3.4387759e+10 | G41: 1.65968e+10 | H41: 2.2446498e+10 | I41: 3.2851103e+10 | J41: 5.445164e+10 | K41: GRAND TOTAL(A+B) | L41: 7.598425e+10 | M41: 6.5547027e+10 | N41: 3.5334876e+10 | O41: 7.4573001e+10 | P41: 7.5633172e+10 | Q41: 631079910674 | R41: 5.3290359e+11 | S41: 9.8176319e+10
C43: Dividend (Dollars $) | D43: $ | E43: $ | F43: $ | G43: $ | H43: $ | I43: $ | J43: $ | L43: $
B44: 1 | C44: African Re-Insurance Corp | D44: 1022975 | E44: 0 | F44: 0 | G44: 0 | H44: 0 | I44: 0 | J44: 1116000
B45: 2 | C45: Royal Swaziland Sugar Corp, Swaziland | D45: 0 | E45: 327179.27 | F45: 0 | G45: 0 | H45: 0 | I45: 508585.55
C46: TOTAL | D46: 0 | F46: 0 | G46: 0 | H46: 0 | I46: 0
B49: SUMMARY OF IGR PERFOMANCE : 2021
...

Sheet Debt
B2: NOTE 2A - ANALYSIS OF PUBLIC DEBT STOCK
B3: Debt stock balances as at | C3: 31 March 2023 | E3: 31 December 2023 | G3: 31 December 2024 | I3: 31 December 2025 | K3: 31 March 2026
C4: US$’M | D4: N'M | E4: US$’M | F4: N'M | G4: US$’M | H4: N'M | I4: US$’M | J4: N'M | K4: US$’M | L4: N'M
B5: External Debt | C5: 42671.7 | D5: 19643917 | E5: 42495.16 | F5: 38219849 | G5: 45780.45 | H5: 70287531 | I5: 51856.03 | J5: 74426735 | K5: 51904.08 | L5: 71950245
B6: Domestic Debt | C6: 65623.48 | D6: 24730775 | E6: 65734.18 | F6: 59120859 | G6: 48444.65 | H6: 74377920 | I6: 59117.86 | J6: 84849334 | K6: 63050.32 | L6: 87401336
B7: FGN Only | C7: 53721.68 | D7: 5478993.6 | E7: 59242.12 | F7: 53281950 | G7: 45860.13 | H7: 70409863 | I7: 56079.75 | J7: 80488865 | K7: 59786.96 | L7: 82877622
B8: States & FCT | C8: 11901.8 | D8: 5478993.6 | E8: 6518.67 | F8: 5862846.9 | G8: 2584.52 | H8: 3968057.3 | I8: 3038.11 | J8: 4360468.8 | K8: 3263.36 | L8: 4523714.3
B9: Total Public Debt | C9: 108295.18 | D9: 49853685 | E9: 108229.34 | F9: 97340708 | G9: 94225.1 | H9: 1.4466545e+08 | I9: 110973.89 | J9: 1.5927607e+08 | K9: 114954.4 | L9: 1.5935158e+08
B10: Period end closing exchange rates | C10: 460 | E10: 907.11 | G10: 1535 | I10: 1450.3 | K10: 1384.77
B11: Source: Debt Management Office
B13: NOTE 2B - EFFECT OF EXCHANGE RATE ON DEBT SERVICE | C13: 646 | D13: 1480 | E13: 1520 | G13: Actual average exch rates
B14: Description | C14: 2023 | D14: 2024 | E14: 2025 | F14: Q1 2026
B15: Base Exchange Rate (US$/N) (Constant as at 01/01/2023) | C15: 461.06 | D15: 461.06 | E15: 461.06 | F15: 461.06 | G15: Use 31 May 2023 exch rate
B16: Average Actual Exchange Rate (US$/N) | C16: 684.00544 | D16: 1449.6331 | E16: 1529.1039 | F16: 1372.1619 | G16: Derived actual average exch rates
B17: Actual External Debt Service (US$'M) | C17: 3503.51 | D17: 4656.76 | E17: 4032.16 | F17: 954.06
B18: External Debt Service at Base Exchange Rate (N'M) (A) | C18: =C17*C15 -> 1615328.3 | D18: =D17*D15 -> 2147045.8 | E18: =E17*E15 -> 1859067.7 | F18: 427943.61
B19: Actual External Debt Service at Average Actual Exchange Rate (N'M) (B) | C19: =C17*C16 -> 2396419.9 | D19: =D17*D16 -> 6750593.3 | E19: =E17*E16 -> 6165591.7 | F19: =F17*F16 -> 1309124.8
B20: Impact of Naira exchange rate depreciation | C20: =C19-C18 -> 781091.57 | D20: =D19-D18 -> 4603547.6 | E20: =E19-E18 -> 4306524 | F20: =F19-F18 -> 881181.17
B21: Total Debt Service
B22: Actual Domestic Debt Service (N'M) | C22: 4381207.4 | D22: 5869905.5 | E22: 8607151.9 | F22: 3138892.4
B23: Actual External Debt Service (N'M) | C23: 2396419.9 | D23: 6750593.3 | E23: 6165591.7 | F23: 1309124.8
B24: Total Debt Service (N'M) | C24: =C23+C22 -> 6777627.2 | D24: =D23+D22 -> 12620499 | E24: =E23+E22 -> 14772744 | F24: =F23+F22 -> 4448017.1
B25: Source: Debt Management Office
B27: NOTE 2C - IMPACT OF INTEREST RATE HIKE ON DOMESTIC BORROWING
C28: 2022 | D28: 2023 | E28: 2024 | F28: 2025 | G28: Total
C29: N'Billion | D29: N'Billion | E29: N'Billion | F29: N'Billion | G29: N'Billion
B30: Incremental domestic borrowing | C30: 0 | D30: ='Receipts & Utilisation'!G53 -> -647.3294 | E30: ='Receipts & Utilisation'!H53 -> 4402.6133 | F30: ='Receipts & Utilisation'!I53 -> 8098.2578 | G30: =SUM(C30:F30) -> 11853.542
B31: Average Coupon:
B32: - Short Term | C32: =(4.5%+7.5%)/2 -> 0.06 | D32: =(7%+12.5%)/2 -> 0.0975 | E32: =(16.5%+21.5%)/2 -> 0.19 | F32: =(17.5%+23%)/2 -> 0.2025
B33: - Long Term | C33: =(11.5%+13.8%)/2 -> 0.1265 | D33: =(13.5%+14.5%)/2 -> 0.14 | E33: =(18.5%+21.7%)/2 -> 0.201 | F33: =(16.8%+19.5%)/2 -> 0.1815
B34: Average | C34: =AVERAGE(C32:C33) -> 0.09325 | D34: =AVERAGE(D32:D33) -> 0.11875 | E34: =AVERAGE(E32:E33) -> 0.1955 | F34: =AVERAGE(F32:F33) -> 0.192
B36: Incremental cost of interest rate hike | C36: 0 | D36: =(D34-C34)*D30 -> -16.5069 | E36: =(E34-C34)*E30 -> 450.16721 | F36: =(F34-C34)*F30 -> 799.70295 | G36: =SUM(C36:F36) -> 1233.3633
B37: Source: Min of Finance Analysis
B40: NOTE 2D - WAYS & MEANS
B41: Year | C41: Balance | D41: Movement | E41: Average
C42: N'Billion | D42: N'Billion | E42: N'Billion
B43: 2018 | C43: 5038.333 | D43: =C43 -> 5038.333
B44: 2019 | C44: 8416.261 | D44: =C44-C43 -> 3377.928
B45: 2020 | C45: 12809.144 | D45: =C45-C44 -> 4392.883
B46: 2021 | C46: 17106.485 | D46: =C46-C45 -> 4297.341
...

Sheet Expenses
B2: NOTE 3- INCREMENTAL EXPENSES
B4: A. WAGE ADJUSTMENTS
B5: Year | C5: Annual Wage Bill | D5: Increase
C6: N'Billion | D6: N'Billion
B7: 2023 | C7: ='Wage Adjustment'!M16/1000000000 -> 3641.335 | D7: 0 | E7: Base Year
B8: 2024 | C8: ='Wage Adjustment'!R24/1000000000 -> 6938.566 | D8: =C8-C7 -> 3297.231
B9: 2025 | C9: ='Wage Adjustment'!P33/1000000000 -> 9731.0019 | D9: =C9-C7 -> 6089.6669
C10: =SUM(C7:C9) -> 20310.903 | D10: =SUM(D7:D9) -> 9386.8979
B12: B. SOCIAL WELFARE
B13: New Initiatives | D13: 2023 | E13: 2024 | F13: 2025 | G13: Total
D14: N'Billion | E14: N'Billion | F14: N'Billion | G14: N'Billion
B15: NELFUND | D15: 0 | E15: 143.8 | F15: 80 | G15: =SUM(E15:F15) -> 223.8
B16: Conditional Cash Transfers | D16: 0 | E16: 0 | F16: 0 | G16: =SUM(E16:F16) -> 0
B17: CREDICORP | D17: 0 | E17: 50 | F17: 0 | G17: =SUM(E17:F17) -> 50
B18: MREIF | D18: 0 | E18: 0 | F18: 150 | G18: =SUM(E18:F18) -> 150
B19: Total | D19: 0 | E19: 193.8 | F19: 230 | G19: =SUM(E19:F19) -> 423.8
B21: C. INTERNATIONAL MEMBERSHIP AND FOREIGN MISSIONS
C22: 2022 | D22: 2023 | E22: 2024 | F22: 2025 | G22: Total
D23: $million | E23: $million | F23: $million | G23: $million
B24: Subscriptions, Missions Funding and Assessed Contributions | D24: 200 | E24: 200 | F24: 200 | G24: =SUM(E24:F24) -> 400 | H24: Estimated amount paid (actual due may be higher)
B25: Average exch rates | C25: 423.71 | D25: 645.6 | E25: 1472.15 | F25: 1522.45
C27: N'Billion | D27: N'Billion | E27: N'Billion | F27: N'Billion | G27: N'Billion
B29: Exchange rate impact | D29: =(D25-C25)*D24/1000*(7/12) -> 25.887167 | E29: =(E25-D25)*E24/1000 -> 165.31 | F29: =(F25-E25)*F24/1000 -> 10.06 | G29: =SUM(C29:F29) -> 201.25717

Sheet Electricity subsidy
A2: NOTE 3D - ELECTRICITY SUBSIDY
C3: 2021 | D3: 2022 | E3: 2023 | F3: Jan - May 2023 | G3: Jun - Dec 2023 | H3: 2024 | I3: 2025 | J3: Total (Jun 2023 - Dec 2025)
B4: Total invoice values | C4: =SUM(C25:N25) -> 8.1745832e+11 | D4: =SUM(O25:Z25) -> 8.0867785e+11 | E4: =SUM(AA25:AL25) -> 1.3716577e+12 | F4: =SUM(AA25:AE25) -> 4.0922872e+11 | G4: =SUM(AF25:AL25) -> 9.6242898e+11 | H4: =SUM(AM25:AX25) -> 2.972597e+12 | I4: =SUM(AY25:BJ25) -> 3.1659182e+12 | J4: =SUM(G4:I4) -> 7.1009441e+12
B5: FG Invoices - Actual | C5: =SUM(C55:N55) -> 2.5107158e+11 | D5: =SUM(O55:Z55) -> 1.5105885e+11 | E5: =SUM(AA55:AL55) -> 6.3144374e+11 | F5: =SUM(AA55:AE55) -> 1.8941944e+11 | G5: =SUM(AF55:AL55) -> 4.420243e+11 | H5: =SUM(AM55:AX55) -> 1.9412262e+12 | I5: =SUM(AY55:BJ55) -> 1.9292968e+12 | J5: =SUM(G5:I5) -> 4.3125473e+12
B6: FG Invoices at pre-reform levels (est.) | C6: =C5 -> 2.5107158e+11 | D6: =D5 -> 1.5105885e+11 | E6: =F6+G6 -> 4.5460666e+11 | F6: =F5 -> 1.8941944e+11 | G6: =F6/5*7 -> 2.6518722e+11 | H6: =F6/5*12 -> 4.5460666e+11 | I6: =H6 -> 4.5460666e+11 | J6: =SUM(G6:I6) -> 1.1744005e+12
B7: Incremental subsidy | C7: =C5-C6 -> 0 | D7: =D5-D6 -> 0 | E7: =E5-E6 -> 1.7683708e+11 | F7: =F5-F6 -> 0 | G7: =G5-G6 -> 1.7683708e+11 | H7: =H5-H6 -> 1.4866195e+12 | I7: =I5-I6 -> 1.4746901e+12 | J7: =SUM(G7:I7) -> 3.1381467e+12
A10: Electricity Subsidy Detailed Breakdown - NBET
B12: INVOICES (N)
A13: INVOICES (N) | B13: DISCO | C13: 44197 | D13: 44228 | E13: 44256 | F13: 44287 | G13: 44317 | H13: 44348 | I13: 44378 | J13: 44409 | K13: 44440 | L13: 44470 | M13: 44501 | N13: 44531 | O13: 44562 | P13: 44593 | Q13: 44621 | R13: 44652 | S13: 44682 | T13: 44713 | U13: 44743 | V13: 44774 | W13: 44805 | X13: 44835 | Y13: 44866 | Z13: 44896 | AA13: 44927 | AB13: 44958 | AC13: 44986 | AD13: =[1]Sheet1!F2 -> 45017 | AE13: =[1]Sheet1!G2 -> 45047 | AF13: =[1]Sheet1!H2 -> 45078 | AG13: =[1]Sheet1!I2 -> 45108 | AH13: =[1]Sheet1!J2 -> 45139 | AI13: =[1]Sheet1!K2 -> 45170 | AJ13: =[1]Sheet1!L2 -> 45200 | AK13: =[1]Sheet1!M2 -> 45231 | ... BJ13: =[1]Sheet1!AL2 -> 45992
B14: ABUJA | C14: 8.6641239e+09 | D14: 8.2089694e+09 | E14: 8.8200864e+09 | F14: 8.9822932e+09 | G14: 8.9814734e+09 | H14: 7.961056e+09 | I14: 8.3230347e+09 | J14: 8.1577882e+09 | K14: 7.7749976e+09 | L14: 8.4182509e+09 | M14: 8.4876531e+09 | N14: 8.5483e+09 | O14: 8.8498824e+09 | P14: 8.2404061e+09 | Q14: 8.0625563e+09 | R14: 8.2728667e+09 | S14: 7.8463426e+09 | T14: 7.0902314e+09 | U14: 9.285099e+09 | V14: 9.3967925e+09 | W14: 9.8712796e+09 | X14: 1.0460867e+10 | Y14: 1.1028372e+10 | Z14: 1.1206535e+10 | AA14: 1.1142351e+10 | AB14: 1.0931839e+10 | AC14: 1.2799705e+10 | AD14: =[1]Sheet1!F3 -> 1.1739278e+10 | AE14: =[1]Sheet1!G3 -> 1.5075982e+10 | AF14: =[1]Sheet1!H3 -> 1.8923521e+10 | AG14: =[1]Sheet1!I3 -> 1.940297e+10 | AH14: =[1]Sheet1!J3 -> 1.9433616e+10 | AI14: =[1]Sheet1!K3 -> 1.9573887e+10 | AJ14: =[1]Sheet1!L3 -> 2.2553417e+10 | AK14: =[1]Sheet1!M3 -> 2.4232511e+10 | ... BJ14: =[1]Sheet1!AL3 -> 3.701386e+10
B15: BENIN | C15: 6.4328962e+09 | D15: 5.7715493e+09 | E15: 6.1753384e+09 | F15: 6.0829253e+09 | G15: 6.4476587e+09 | H15: 6.0025243e+09 | I15: 6.2757941e+09 | J15: 5.8663938e+09 | K15: 5.5994615e+09 | L15: 6.0002956e+09 | M15: 5.8558631e+09 | N15: 6.3572005e+09 | O15: 6.6938836e+09 | P15: 6.1276652e+09 | Q15: 6.2641699e+09 | R15: 5.6991278e+09 | S15: 5.925666e+09 | T15: 5.6473286e+09 | U15: 6.0373425e+09 | V15: 6.252842e+09 | W15: 6.4675662e+09 | X15: 6.3821204e+09 | Y15: 6.8091559e+09 | Z15: 6.5878649e+09 | AA15: 6.5805228e+09 | AB15: 6.4540609e+09 | AC15: 7.0655053e+09 | AD15: =[1]Sheet1!F4 -> 6.819212e+09 | AE15: =[1]Sheet1!G4 -> 9.3109459e+09 | AF15: =[1]Sheet1!H4 -> 1.0566798e+10 | AG15: =[1]Sheet1!I4 -> 1.0359143e+10 | AH15: =[1]Sheet1!J4 -> 1.0192209e+10 | AI15: =[1]Sheet1!K4 -> 1.1078907e+10 | AJ15: =[1]Sheet1!L4 -> 1.2230889e+10 | AK15: =[1]Sheet1!M4 -> 1.2744709e+10 | ... BJ15: =[1]Sheet1!AL4 -> 2.0445258e+10
B16: EKO | C16: 8.4737661e+09 | D16: 7.7635257e+09 | E16: 7.7648399e+09 | F16: 7.7138893e+09 | G16: 8.1144647e+09 | H16: 7.4918883e+09 | I16: 7.7171782e+09 | J16: 7.7269853e+09 | K16: 6.9580909e+09 | L16: 7.7631775e+09 | M16: 7.4865384e+09 | N16: 8.0334796e+09 | O16: 8.0211732e+09 | P16: 7.1721687e+09 | Q16: 6.6038202e+09 | R16: 6.7952355e+09 | S16: 7.2532942e+09 | T16: 6.2578702e+09 | U16: 6.6399262e+09 | V16: 7.8528465e+09 | W16: 6.7513317e+09 | X16: 6.4122535e+09 | Y16: 6.9173855e+09 | Z16: 7.7483177e+09 | AA16: 8.2297175e+09 | AB16: 7.4021091e+09 | AC16: 8.3817779e+09 | AD16: =[1]Sheet1!F5 -> 7.1397378e+09 | AE16: =[1]Sheet1!G5 -> 1.0243719e+10 | AF16: =[1]Sheet1!H5 -> 1.2331617e+10 | AG16: =[1]Sheet1!I5 -> 1.3219677e+10 | AH16: =[1]Sheet1!J5 -> 1.3595176e+10 | AI16: =[1]Sheet1!K5 -> 1.509974e+10 | AJ16: =[1]Sheet1!L5 -> 1.8676413e+10 | AK16: =[1]Sheet1!M5 -> 2.0996821e+10 | ... BJ16: =[1]Sheet1!AL5 -> 3.0464336e+10
B17: ENUGU | C17: 6.906863e+09 | D17: 6.2755357e+09 | E17: 6.3162994e+09 | F17: 6.2060947e+09 | G17: 6.4605368e+09 | H17: 6.0626336e+09 | I17: 6.3902549e+09 | J17: 6.0158682e+09 | K17: 5.6938474e+09 | L17: 6.1482147e+09 | M17: 6.094211e+09 | N17: 6.4840174e+09 | O17: 6.7713318e+09 | P17: 6.4176093e+09 | Q17: 6.3328859e+09 | R17: 5.8037893e+09 | S17: 5.7951177e+09 | T17: 5.5344415e+09 | U17: 6.3146019e+09 | V17: 6.407804e+09 | W17: 6.0579732e+09 | X17: 5.9778341e+09 | Y17: 6.5037809e+09 | Z17: 7.0949482e+09 | AA17: 6.8141871e+09 | AB17: 6.9698103e+09 | AC17: 7.0311876e+09 | AD17: =[1]Sheet1!F6 -> 6.8734125e+09 | AE17: =[1]Sheet1!G6 -> 8.9974016e+09 | AF17: =[1]Sheet1!H6 -> 1.0562532e+10 | AG17: =[1]Sheet1!I6 -> 1.0146893e+10 | AH17: =[1]Sheet1!J6 -> 1.0218065e+10 | AI17: =[1]Sheet1!K6 -> 1.0685407e+10 | AJ17: =[1]Sheet1!L6 -> 1.2900719e+10 | AK17: =[1]Sheet1!M6 -> 1.3234143e+10 | ... BJ17: =[1]Sheet1!AL6 -> 1.9429271e+10
B18: IBADAN | C18: 9.8225493e+09 | D18: 8.9357385e+09 | E18: 9.044445e+09 | F18: 9.0559371e+09 | G18: 9.2510225e+09 | H18: 8.2121632e+09 | I18: 9.1247028e+09 | J18: 8.8602012e+09 | K18: 8.473587e+09 | L18: 9.0058218e+09 | M18: 8.9971308e+09 | N18: 9.2894864e+09 | O18: 9.4100189e+09 | P18: 8.2671063e+09 | Q18: 7.9665588e+09 | R18: 8.082921e+09 | S18: 8.0162343e+09 | T18: 7.1695373e+09 | U18: 8.3578795e+09 | V18: 8.2289226e+09 | W18: 8.2391712e+09 | X18: 8.2338553e+09 | Y18: 8.9831443e+09 | Z18: 9.4988282e+09 | AA18: 8.7678614e+09 | AB18: 8.7676451e+09 | AC18: 9.8566694e+09 | AD18: =[1]Sheet1!F7 -> 8.7864295e+09 | AE18: =[1]Sheet1!G7 -> 1.2029206e+10 | AF18: =[1]Sheet1!H7 -> 1.3466169e+10 | AG18: =[1]Sheet1!I7 -> 1.3473944e+10 | AH18: =[1]Sheet1!J7 -> 1.3990602e+10 | AI18: =[1]Sheet1!K7 -> 1.5496385e+10 | AJ18: =[1]Sheet1!L7 -> 1.7315678e+10 | AK18: =[1]Sheet1!M7 -> 1.9378245e+10 | ... BJ18: =[1]Sheet1!AL7 -> 2.7749771e+10
B19: IKEJA | C19: 1.0846716e+10 | D19: 1.0063174e+10 | E19: 1.0245121e+10 | F19: 1.0239858e+10 | G19: 1.0869268e+10 | H19: 1.0162973e+10 | I19: 1.0297308e+10 | J19: 1.0011641e+10 | K19: 9.2590002e+09 | L19: 1.0022734e+10 | M19: 9.8286831e+09 | N19: 1.0660231e+10 | O19: 1.0805013e+10 | P19: 9.6223561e+09 | Q19: 9.1858211e+09 | R19: 9.1752706e+09 | S19: 9.4558329e+09 | T19: 8.2392483e+09 | U19: 9.103734e+09 | V19: 9.7775172e+09 | W19: 1.0317123e+10 | X19: 9.6707668e+09 | Y19: 1.0717197e+10 | Z19: 1.1831482e+10 | AA19: 1.1395077e+10 | AB19: 1.15332e+10 | AC19: 1.3153571e+10 | AD19: =[1]Sheet1!F8 -> 1.1650891e+10 | AE19: =[1]Sheet1!G8 -> 1.5880571e+10 | AF19: =[1]Sheet1!H8 -> 1.9338509e+10 | AG19: =[1]Sheet1!I8 -> 2.0500346e+10 | AH19: =[1]Sheet1!J8 -> 2.0784124e+10 | AI19: =[1]Sheet1!K8 -> 2.0503605e+10 | AJ19: =[1]Sheet1!L8 -> 2.2006837e+10 | AK19: =[1]Sheet1!M8 -> 2.4237211e+10 | ... BJ19: =[1]Sheet1!AL8 -> 3.5072377e+10
B20: JOS | C20: 3.4847771e+09 | D20: 3.1708693e+09 | E20: 3.4166705e+09 | F20: 3.4627624e+09 | G20: 3.734329e+09 | H20: 3.4595616e+09 | I20: 3.5255381e+09 | J20: 3.4010804e+09 | K20: 3.2224037e+09 | L20: 3.4191103e+09 | M20: 3.4407127e+09 | N20: 3.5937668e+09 | O20: 3.7920506e+09 | P20: 3.5392874e+09 | Q20: 3.6318068e+09 | R20: 3.5309653e+09 | S20: 3.5056016e+09 | T20: 3.2389993e+09 | U20: 3.6396894e+09 | V20: 3.7159257e+09 | W20: 3.8789115e+09 | X20: 4.1509758e+09 | Y20: 4.2719901e+09 | Z20: 4.6648919e+09 | AA20: 4.5611205e+09 | AB20: 4.423658e+09 | AC20: 4.6651465e+09 | AD20: =[1]Sheet1!F9 -> 4.3692095e+09 | AE20: =[1]Sheet1!G9 -> 5.6040079e+09 | AF20: =[1]Sheet1!H9 -> 5.4492835e+09 | AG20: =[1]Sheet1!I9 -> 6.6600963e+09 | AH20: =[1]Sheet1!J9 -> 6.5297175e+09 | AI20: =[1]Sheet1!K9 -> 7.0610194e+09 | AJ20: =[1]Sheet1!L9 -> 8.3272169e+09 | AK20: =[1]Sheet1!M9 -> 8.6493624e+09 | ... BJ20: =[1]Sheet1!AL9 -> 1.2695584e+10
B21: KADUNA | C21: 5.191388e+09 | D21: 4.8574758e+09 | E21: 5.2898753e+09 | F21: 5.6281806e+09 | G21: 5.6595453e+09 | H21: 5.3258661e+09 | I21: 5.3955945e+09 | J21: 5.2803154e+09 | K21: 4.9774388e+09 | L21: 5.4971553e+09 | M21: 5.3754633e+09 | N21: 5.4876733e+09 | O21: 5.6995563e+09 | P21: 5.2174127e+09 | Q21: 5.1459046e+09 | R21: 5.2393467e+09 | S21: 4.946945e+09 | T21: 4.4986034e+09 | U21: 4.4355469e+09 | V21: 4.840153e+09 | W21: 4.8268396e+09 | X21: 5.0968445e+09 | Y21: 5.1164081e+09 | Z21: 5.3790218e+09 | AA21: 5.2320566e+09 | AB21: 5.0815249e+09 | AC21: 5.3434563e+09 | AD21: =[1]Sheet1!F10 -> 4.5565396e+09 | AE21: =[1]Sheet1!G10 -> 5.4341618e+09 | AF21: =[1]Sheet1!H10 -> 5.8829896e+09 | AG21: =[1]Sheet1!I10 -> 7.3396346e+09 | AH21: =[1]Sheet1!J10 -> 7.3503796e+09 | AI21: =[1]Sheet1!K10 -> 7.3062279e+09 | AJ21: =[1]Sheet1!L10 -> 1.0116978e+10 | AK21: =[1]Sheet1!M10 -> 1.0741658e+10 | ... BJ21: =[1]Sheet1!AL10 -> 1.3477672e+10
B22: KANO | C22: 5.029144e+09 | D22: 4.6597078e+09 | E22: 5.013159e+09 | F22: 4.9749014e+09 | G22: 5.326603e+09 | H22: 4.8148267e+09 | I22: 4.5702419e+09 | J22: 4.7202606e+09 | K22: 4.2901439e+09 | L22: 4.9906481e+09 | M22: 4.9716741e+09 | N22: 5.3018263e+09 | O22: 5.4726429e+09 | P22: 4.9978705e+09 | Q22: 4.5529556e+09 | R22: 4.7676525e+09 | S22: 4.4019193e+09 | T22: 4.0394762e+09 | U22: 4.3920994e+09 | V22: 4.7208986e+09 | W22: 4.5589337e+09 | X22: 5.057964e+09 | Y22: 5.239069e+09 | Z22: 5.4138933e+09 | AA22: 5.3372921e+09 | AB22: 5.0912737e+09 | AC22: 5.8236328e+09 | AD22: =[1]Sheet1!F11 -> 4.8430307e+09 | AE22: =[1]Sheet1!G11 -> 6.2544073e+09 | AF22: =[1]Sheet1!H11 -> 6.1590469e+09 | AG22: =[1]Sheet1!I11 -> 7.0242033e+09 | AH22: =[1]Sheet1!J11 -> 7.3976965e+09 | AI22: =[1]Sheet1!K11 -> 8.0777502e+09 | AJ22: =[1]Sheet1!L11 -> 9.7681612e+09 | AK22: =[1]Sheet1!M11 -> 1.0614709e+10 | ... BJ22: =[1]Sheet1!AL11 -> 1.2636057e+10
B23: PH | C23: 4.5929938e+09 | D23: 4.4420729e+09 | E23: 4.634083e+09 | F23: 4.6944012e+09 | G23: 4.8113544e+09 | H23: 4.4708593e+09 | I23: 4.7067068e+09 | J23: 4.5699556e+09 | K23: 4.1507102e+09 | L23: 4.5252742e+09 | M23: 4.2500516e+09 | N23: 4.4322298e+09 | O23: 4.5187325e+09 | P23: 4.5497545e+09 | Q23: 4.463843e+09 | R23: 4.2082675e+09 | S23: 4.1604634e+09 | T23: 4.0615785e+09 | U23: 5.1470402e+09 | V23: 4.9738542e+09 | W23: 5.0736366e+09 | X23: 4.9648764e+09 | Y23: 5.2890866e+09 | Z23: 5.8646964e+09 | AA23: 5.7522538e+09 | AB23: 5.9265038e+09 | AC23: 5.9529833e+09 | AD23: =[1]Sheet1!F12 -> 5.7291802e+09 | AE23: =[1]Sheet1!G12 -> 7.9001472e+09 | AF23: =[1]Sheet1!H12 -> 8.5855703e+09 | AG23: =[1]Sheet1!I12 -> 8.9306681e+09 | AH23: =[1]Sheet1!J12 -> 9.4391279e+09 | AI23: =[1]Sheet1!K12 -> 9.3882843e+09 | AJ23: =[1]Sheet1!L12 -> 1.0307552e+10 | AK23: =[1]Sheet1!M12 -> 1.1154493e+10 | ... BJ23: =[1]Sheet1!AL12 -> 1.6076533e+10
B24: YOLA | C24: 2.5287624e+09 | D24: 2.0694955e+09 | E24: 2.2760413e+09 | F24: 2.3574368e+09 | G24: 2.3249642e+09 | H24: 2.0869e+09 | I24: 2.2015133e+09 | J24: 2.1336086e+09 | K24: 1.9713187e+09 | L24: 2.1319133e+09 | M24: 2.1152415e+09 | N24: 2.1821213e+09 | O24: 2.2674792e+09 | P24: 2.1807433e+09 | Q24: 2.2838752e+09 | R24: 2.2405385e+09 | S24: 2.0653794e+09 | T24: 1.9391402e+09 | U24: 1.9321752e+09 | V24: 1.9061155e+09 | W24: 1.9688685e+09 | X24: 2.0972546e+09 | Y24: 2.230292e+09 | Z24: 2.3718607e+09 | AA24: 2.417119e+09 | AB24: 2.3238797e+09 | AC24: 3.1112728e+09 | AD24: =[1]Sheet1!F13 -> 2.504639e+09 | AE24: =[1]Sheet1!G13 -> 3.1666382e+09 | AF24: =[1]Sheet1!H13 -> 3.0856476e+09 | AG24: =[1]Sheet1!I13 -> 3.9623746e+09 | AH24: =[1]Sheet1!J13 -> 3.7479134e+09 | AI24: =[1]Sheet1!K13 -> 4.0239544e+09 | AJ24: =[1]Sheet1!L13 -> 5.023155e+09 | AK24: =[1]Sheet1!M13 -> 5.4140548e+09 | ... BJ24: =[1]Sheet1!AL13 -> 5.804685e+09
B25: TOTAL | C25: =SUM(C14:C24) -> 7.197398e+10 | D25: =SUM(D14:D24) -> 6.6218114e+10 | E25: =SUM(E14:E24) -> 6.8995959e+10 | F25: =SUM(F14:F24) -> 6.9398681e+10 | G25: =SUM(G14:G24) -> 7.198122e+10 | H25: =SUM(H14:H24) -> 6.6051252e+10 | I25: =SUM(I14:I24) -> 6.8527868e+10 | J25: =SUM(J14:J24) -> 6.6744098e+10 | ... BJ25: =SUM(BJ14:BJ24) -> 2.3086541e+11
C26: 0 | D26: 0 | E26: 0 | F26: 0 | G26: 0 | H26: 0 | I26: 0 | J26: 0 | K26: 0 | L26: 0 | M26: 0 | N26: 0 | O26: 0 | P26: 0 | Q26: 0 | R26: 0 | S26: 0 | T26: 0 | U26: 0 | V26: 0 | W26: 0 | X26: 0 | Y26: 0 | Z26: 0 | AA26: 0 | AB26: 0 | AC26: 0 | AD26: 0 | AE26: =AE25 -> 9.9897188e+10 | AF26: 0 | AG26: 0 | AH26: 0 | AI26: 0 | AJ26: 0 | AK26: 0 | AL26: 0 | AM26: 0 | AN26: 0 | AO26: 0 | AP26: 0 | AQ26: 0 | AR26: 0 | AS26: 0 | AT26: 0 | AU26: 0 | AV26: 0 | AW26: 0 | AX26: 0 | AY26: 0 | AZ26: 0 | BA26: 0 | BB26: 0 | BC26: 0 | BD26: 0 | BE26: 0 | BF26: 0 | BG26: 0 | BH26: 0 | BI26: 0 | BJ26: 0
B27: MRO/DRO
A28: MRO/DRO | B28: =B13 -> DISCO | C28: =C13 -> 44197 | D28: =D13 -> 44228 | E28: =E13 -> 44256 | F28: =F13 -> 44287 | G28: =G13 -> 44317 | H28: =H13 -> 44348 | I28: =I13 -> 44378 | ... BJ28: =BJ13 -> 45992
B29: =B14 -> ABUJA | C29: 0.8177 | D29: 0.8177 | E29: 0.8177 | F29: 0.8177 | G29: 0.8177 | H29: 0.8177 | I29: 0.8177 | J29: 0.8177 | K29: 0.8177 | L29: 0.8177 | M29: 0.8177 | N29: 0.8177 | O29: 0.9004 | P29: 0.9004 | Q29: 0.9004 | R29: 0.9004 | S29: 0.9004 | T29: 0.9004 | U29: 0.9004 | V29: 0.9004 | W29: 0.9004 | X29: 0.9004 | Y29: 0.9004 | Z29: 0.9004 | AA29: 0.6652 | AB29: 0.6652 | AC29: 0.6652 | AD29: 0.6652 | AE29: 0.6652 | AF29: 0.6652 | AG29: 0.6652 | AH29: 0.6652 | AI29: 0.6652 | AJ29: 0.6652 | AK29: 0.6652 | AL29: 0.6652 | AM29: 0.1421 | AN29: 0.1427 | AO29: 0.1427 | AP29: 0.5227 | AQ29: 0.469 | AR29: 0.4751 | AS29: 0.4712 | AT29: 0.4608 | AU29: 0.4505 | AV29: 0.4341 | AW29: 0.4454 | AX29: 0.4357 | AY29: 0.4074 | AZ29: 0.4227 | BA29: 0.4056 | BB29: 0.4111 | BC29: 0.4111 | BD29: 0.411 | BE29: 0.4269 | BF29: 0.4194 | BG29: 0.4229 | BH29: 0.438 | BI29: 0.4986 | BJ29: 0.5081
B30: =B15 -> BENIN | C30: 0.5619 | D30: 0.5619 | E30: 0.5619 | F30: 0.5619 | G30: 0.5619 | H30: 0.5619 | I30: 0.5619 | J30: 0.5619 | K30: 0.5619 | L30: 0.5619 | M30: 0.5619 | N30: 0.5619 | O30: 0.8353 | P30: 0.8353 | Q30: 0.8353 | R30: 0.8353 | S30: 0.8353 | T30: 0.8353 | U30: 0.8353 | V30: 0.8353 | W30: 0.8353 | X30: 0.8353 | Y30: 0.8353 | Z30: 0.8353 | AA30: 0.5056 | AB30: 0.5056 | AC30: 0.5056 | AD30: 0.5056 | AE30: 0.5056 | AF30: 0.5056 | AG30: 0.5056 | AH30: 0.5056 | AI30: 0.5056 | AJ30: 0.5056 | AK30: 0.5056 | AL30: 0.5056 | AM30: 0.0841 | AN30: 0.0846 | AO30: 0.0846 | AP30: 0.4854 | AQ30: 0.4345 | AR30: 0.4379 | AS30: 0.4343 | AT30: 0.4219 | AU30: 0.412 | AV30: 0.4092 | AW30: 0.4086 | AX30: 0.3996 | AY30: 0.3747 | AZ30: 0.3979 | BA30: 0.368 | BB30: 0.38 | BC30: 0.3784 | BD30: 0.3783 | BE30: 0.3941 | BF30: 0.3875 | BG30: 0.3847 | BH30: 0.4035 | BI30: 0.4736 | BJ30: 0.4832
B31: =B16 -> EKO | C31: 0.7333 | D31: 0.7333 | E31: 0.7333 | F31: 0.7333 | G31: 0.7333 | H31: 0.7333 | I31: 0.7333 | J31: 0.7333 | K31: 0.7333 | L31: 0.7333 | M31: 0.7333 | N31: 0.7333 | O31: 0.8588 | P31: 0.8588 | Q31: 0.8588 | R31: 0.8588 | S31: 0.8588 | T31: 0.8588 | U31: 0.8588 | V31: 0.8588 | W31: 0.8588 | X31: 0.8588 | Y31: 0.8588 | Z31: 0.8588 | AA31: 0.5825 | AB31: 0.5825 | AC31: 0.5825 | AD31: 0.5825 | AE31: 0.5825 | AF31: 0.5825 | AG31: 0.5825 | AH31: 0.5825 | AI31: 0.5825 | AJ31: 0.5825 | AK31: 0.5825 | AL31: 0.5825 | AM31: 0.13 | AN31: 0.1306 | AO31: 0.1306 | AP31: 0.5674 | AQ31: 0.5178 | AR31: 0.5278 | AS31: 0.5236 | AT31: 0.5129 | AU31: 0.5012 | AV31: 0.4787 | AW31: 0.4933 | AX31: 0.4822 | AY31: 0.4366 | AZ31: 0.4455 | BA31: 0.4234 | BB31: 0.435 | BC31: 0.4334 | BD31: 0.4332 | BE31: 0.4503 | BF31: 0.4426 | BG31: 0.43911 | BH31: 0.4596 | BI31: 0.5266 | BJ31: 0.537
B32: =B17 -> ENUGU | C32: 0.7163 | D32: 0.7163 | E32: 0.7163 | F32: 0.7163 | G32: 0.7163 | H32: 0.7163 | I32: 0.7163 | J32: 0.7163 | K32: 0.7163 | L32: 0.7163 | M32: 0.7163 | N32: 0.7163 | O32: 0.8898 | P32: 0.8898 | Q32: 0.8898 | R32: 0.8898 | S32: 0.8898 | T32: 0.8898 | U32: 0.8898 | V32: 0.8898 | W32: 0.8898 | X32: 0.8898 | Y32: 0.8898 | Z32: 0.8898 | AA32: 0.578 | AB32: 0.578 | AC32: 0.578 | AD32: 0.578 | AE32: 0.578 | AF32: 0.578 | AG32: 0.578 | AH32: 0.578 | AI32: 0.578 | AJ32: 0.578 | AK32: 0.578 | AL32: 0.578 | AM32: 0.0505 | AN32: 0.044 | AO32: 0.044 | AP32: 0.4408 | AQ32: 0.4326 | AR32: 0.4121 | AS32: 0.409 | AT32: 0.406 | AU32: 0.3949 | AV32: 0.3806 | AW32: 0.3925 | AX32: 0.384 | AY32: 0.3574 | AZ32: 0.3835 | BA32: 0.3594 | BB32: 0.353 | BC32: 0.3525 | BD32: 0.3525 | BE32: 0.3672 | BF32: 0.361 | BG32: 0.3598 | BH32: 0.3772 | BI32: 0.4482 | BJ32: 0.4571
B33: =B18 -> IBADAN | C33: 0.6996 | D33: 0.6996 | E33: 0.6996 | F33: 0.6996 | G33: 0.6996 | H33: 0.6996 | I33: 0.6996 | J33: 0.6996 | K33: 0.6996 | L33: 0.6996 | M33: 0.6996 | N33: 0.6996 | O33: 0.8052 | P33: 0.8052 | Q33: 0.8052 | R33: 0.8052 | S33: 0.8052 | T33: 0.8052 | U33: 0.8052 | V33: 0.8052 | W33: 0.8052 | X33: 0.8052 | Y33: 0.8052 | Z33: 0.8052 | AA33: 0.4679 | AB33: 0.4679 | AC33: 0.4679 | AD33: 0.4679 | AE33: 0.4679 | AF33: 0.4679 | AG33: 0.4679 | AH33: 0.4679 | AI33: 0.4679 | AJ33: 0.4679 | AK33: 0.4679 | AL33: 0.4679 | AM33: 0.0979 | AN33: 0.0985 | AO33: 0.0985 | AP33: 0.4789 | AQ33: 0.4237 | AR33: 0.4276 | AS33: 0.4242 | AT33: 0.4151 | AU33: 0.4027 | AV33: 0.3855 | AW33: 0.3998 | AX33: 0.391 | AY33: 0.3579 | AZ33: 0.3739 | BA33: 0.3507 | BB33: 0.3408 | BC33: 0.3408 | BD33: 0.3407 | BE33: 0.3551 | BF33: 0.3494 | BG33: 0.3492 | BH33: 0.3665 | BI33: 0.4398 | BJ33: 0.4489
B34: =B19 -> IKEJA | C34: 0.7966 | D34: 0.7966 | E34: 0.7966 | F34: 0.7966 | G34: 0.7966 | H34: 0.7966 | I34: 0.7966 | J34: 0.7966 | K34: 0.7966 | L34: 0.7966 | M34: 0.7966 | N34: 0.7966 | O34: 0.8557 | P34: 0.8557 | Q34: 0.8557 | R34: 0.8557 | S34: 0.8557 | T34: 0.8557 | U34: 0.8557 | V34: 0.8557 | W34: 0.8557 | X34: 0.8557 | Y34: 0.8557 | Z34: 0.8557 | AA34: 0.6325 | AB34: 0.6325 | AC34: 0.6325 | AD34: 0.6325 | AE34: 0.6325 | AF34: 0.6325 | AG34: 0.6325 | AH34: 0.6325 | AI34: 0.6325 | AJ34: 0.6325 | AK34: 0.6325 | AL34: 0.6325 | AM34: 0.1174 | AN34: 0.118 | AO34: 0.118 | AP34: 0.5684 | AQ34: 0.5185 | AR34: 0.5286 | AS34: 0.5127 | AT34: 0.5057 | AU34: 0.4938 | AV34: 0.4732 | AW34: 0.4864 | AX34: 0.4757 | AY34: 0.4293 | AZ34: 0.4392 | BA34: 0.4187 | BB34: 0.4256 | BC34: 0.4246 | BD34: 0.4245 | BE34: 0.441 | BF34: 0.4334 | BG34: 0.4304 | BH34: 0.4494 | BI34: 0.5176 | BJ34: 0.5278
B35: =B20 -> JOS | C35: 0.3788 | D35: 0.3788 | E35: 0.3788 | F35: 0.3788 | G35: 0.3788 | H35: 0.3788 | I35: 0.3788 | J35: 0.3788 | K35: 0.3788 | L35: 0.3788 | M35: 0.3788 | N35: 0.3788 | O35: 0.6308 | P35: 0.6308 | Q35: 0.6308 | R35: 0.6308 | S35: 0.6308 | T35: 0.6308 | U35: 0.6308 | V35: 0.6308 | W35: 0.6308 | X35: 0.6308 | Y35: 0.6308 | Z35: 0.6308 | AA35: 0.377 | AB35: 0.377 | AC35: 0.377 | AD35: 0.377 | AE35: 0.377 | AF35: 0.377 | AG35: 0.377 | AH35: 0.377 | AI35: 0.377 | AJ35: 0.377 | AK35: 0.377 | AL35: 0.377 | AM35: 0.059 | AN35: 0.0594 | AO35: 0.0594 | AP35: 0.4061 | AQ35: 0.2603 | AR35: 0.2463 | AS35: 0.2429 | AT35: 0.3355 | AU35: 0.2096 | AV35: 0.2225 | AW35: 0.3349 | AX35: 0.3278 | AY35: 0.3265 | AZ35: 0.3456 | BA35: 0.3301 | BB35: 0.337 | BC35: 0.3378 | BD35: 0.3378 | BE35: 0.3516 | BF35: 0.3458 | BG35: 0.3392 | BH35: 0.351 | BI35: 0.4146 | BJ35: 0.4233
B36: =B21 -> KADUNA | C36: 0.74 | D36: 0.74 | E36: 0.74 | F36: 0.74 | G36: 0.74 | H36: 0.74 | I36: 0.74 | J36: 0.74 | K36: 0.74 | L36: 0.74 | M36: 0.74 | N36: 0.74 | O36: 0.8276 | P36: 0.8276 | Q36: 0.8276 | R36: 0.8276 | S36: 0.8276 | T36: 0.8276 | U36: 0.8276 | V36: 0.8276 | W36: 0.8276 | X36: 0.8276 | Y36: 0.8276 | Z36: 0.8276 | AA36: 0.4837 | AB36: 0.4837 | AC36: 0.4837 | AD36: 0.4837 | AE36: 0.4837 | AF36: 0.4837 | AG36: 0.4837 | AH36: 0.4837 | AI36: 0.4837 | AJ36: 0.4837 | AK36: 0.4837 | AL36: 0.4837 | AM36: 0.0299 | AN36: 0.0303 | AO36: 0.0303 | AP36: 0.4322 | AQ36: 0.3785 | AR36: 0.38 | AS36: 0.3665 | AT36: 0.3539 | AU36: 0.1799 | AV36: 0.1696 | AW36: 0.3424 | AX36: 0.3346 | AY36: 0.2798 | AZ36: 0.3005 | BA36: 0.2831 | BB36: 0.2754 | BC36: 0.2757 | BD36: 0.2758 | BE36: 0.2887 | BF36: 0.2846 | BG36: 0.284 | BH36: 0.2972 | BI36: 0.3702 | BJ36: 0.3784
B37: =B22 -> KANO | C37: 0.7838 | D37: 0.7838 | E37: 0.7838 | F37: 0.7838 | G37: 0.7838 | H37: 0.7838 | I37: 0.7838 | J37: 0.7838 | K37: 0.7838 | L37: 0.7838 | M37: 0.7838 | N37: 0.7838 | O37: 0.8246 | P37: 0.8246 | Q37: 0.8246 | R37: 0.8246 | S37: 0.8246 | T37: 0.8246 | U37: 0.8246 | V37: 0.8246 | W37: 0.8246 | X37: 0.8246 | Y37: 0.8246 | Z37: 0.8246 | AA37: 0.486 | AB37: 0.486 | AC37: 0.486 | AD37: 0.486 | AE37: 0.486 | AF37: 0.486 | AG37: 0.486 | AH37: 0.486 | AI37: 0.486 | AJ37: 0.486 | AK37: 0.486 | AL37: 0.486 | AM37: 0.0523 | AN37: 0.0527 | AO37: 0.0527 | AP37: 0.4539 | AQ37: 0.4018 | AR37: 0.4049 | AS37: 0.4016 | AT37: 0.3992 | AU37: 0.1945 | AV37: 0.1664 | AW37: 0.3846 | AX37: 0.376 | AY37: 0.3314 | AZ37: 0.3447 | BA37: 0.3308 | BB37: 0.3331 | BC37: 0.3334 | BD37: 0.3334 | BE37: 0.3475 | BF37: 0.3418 | BG37: 0.3414 | BH37: 0.3516 | BI37: 0.3053 | BJ37: 0.3444
B38: =B23 -> PH | C38: 0.5727 | D38: 0.5727 | E38: 0.5727 | F38: 0.5727 | G38: 0.5727 | H38: 0.5727 | I38: 0.5727 | J38: 0.5727 | K38: 0.5727 | L38: 0.5727 | M38: 0.5727 | N38: 0.5727 | O38: 0.81 | P38: 0.81 | Q38: 0.81 | R38: 0.81 | S38: 0.81 | T38: 0.81 | U38: 0.81 | V38: 0.81 | W38: 0.81 | X38: 0.81 | Y38: 0.81 | Z38: 0.81 | AA38: 0.5405 | AB38: 0.5405 | AC38: 0.5405 | AD38: 0.5405 | AE38: 0.5405 | AF38: 0.5405 | AG38: 0.5405 | AH38: 0.5405 | AI38: 0.5405 | AJ38: 0.5405 | AK38: 0.5405 | AL38: 0.5405 | AM38: 0.081 | AN38: 0.0815 | AO38: 0.0815 | AP38: 0.4604 | AQ38: 0.404 | AR38: 0.4073 | AS38: 0.4041 | AT38: 0.396 | AU38: 0.3883 | AV38: 0.3665 | AW38: 0.386 | AX38: 0.3775 | AY38: 0.3377 | AZ38: 0.3571 | BA38: 0.3295 | BB38: 0.3341 | BC38: 0.3339 | BD38: 0.3339 | BE38: 0.3485 | BF38: 0.3427 | BG38: 0.3384 | BH38: 0.3574 | BI38: 0.4159 | BJ38: 0.4246
B39: =B24 -> YOLA | C39: 0.2793 | D39: 0.2793 | E39: 0.2793 | F39: 0.2793 | G39: 0.2793 | H39: 0.2793 | I39: 0.2793 | J39: 0.2793 | K39: 0.2793 | L39: 0.2793 | M39: 0.2793 | N39: 0.2793 | O39: 0.105 | P39: 0.105 | Q39: 0.105 | R39: 0.105 | S39: 0.105 | T39: 0.105 | U39: 0.105 | V39: 0.105 | W39: 0.105 | X39: 0.105 | Y39: 0.105 | Z39: 0.105 | AA39: 0.0625 | AB39: 0.0625 | AC39: 0.0625 | AD39: 0.0625 | AE39: 0.0625 | AF39: 0.0625 | AG39: 0.0625 | AH39: 0.0625 | AI39: 0.0625 | AJ39: 0.0625 | AK39: 0.0625 | AL39: 0.0625 | AM39: 0.0085 | AN39: 0.0085 | AO39: 0.0085 | AP39: 0.1719 | AQ39: 0.0015 | AR39: 0.0015 | AS39: 0.0207 | AT39: 0.0685 | AU39: 0.005 | AV39: 0.005 | AW39: 0.0943 | AX39: 0.0934 | AY39: 0.1323 | AZ39: 0.1374 | BA39: 0.1128 | BB39: 0.0998 | BC39: 0.1158 | BD39: 0.116 | BE39: 0.1234 | BF39: 0.1214 | BG39: 0.1219 | BH39: 0.1292 | BI39: 0.1682 | BJ39: 0.1716
B42: FGN INVOICE
A43: FGN INVOICE | B43: =B28 -> DISCO | C43: =C13 -> 44197 | D43: =D13 -> 44228 | E43: =E13 -> 44256 | F43: =F13 -> 44287 | G43: =G13 -> 44317 | H43: =H13 -> 44348 | I43: =I13 -> 44378 | J43: =J13 -> 44409 | ... BJ43: =BJ13 -> 45992
B44: =B29 -> ABUJA | C44: =C14*(1-C29) -> 1.5794698e+09 | D44: =D14*(1-D29) -> 1.4964951e+09 | E44: =E14*(1-E29) -> 1.6079018e+09 | F44: =F14*(1-F29) -> 1.6374721e+09 | G44: =G14*(1-G29) -> 1.6373226e+09 | H44: =H14*(1-H29) -> 1.4513005e+09 | I44: =I14*(1-I29) -> 1.5172892e+09 | J44: =J14*(1-J29) -> 1.4871648e+09 | ... AL44: =AL14*(1-AL29) -> 8.3538662e+09 | AM44: 3.4233078e+10 | AN44: =AN14*(1-AN29) -> 2.7776797e+10 | AO44: =AO14*(1-AO29) -> 3.1885522e+10 | AP44: =AP14*(1-AP29) -> 1.6563846e+10 | AQ44: =AQ14*(1-AQ29) -> 2.0246333e+10 | AR44: =AR14*(1-AR29) -> 1.878033e+10 | AS44: =AS14*(1-AS29) -> 2.1178265e+10 | AT44: =AT14*(1-AT29) -> 2.0417885e+10 | AU44: =AU14*(1-AU29) -> 2.2659917e+10 | ... AX44: =AX14*(1-AX29) -> 2.3323841e+10 | AY44: 2.4550296e+10 | AZ44: =AZ14*(1-AZ29) -> 2.3438017e+10 | BA44: =BA14*(1-BA29) -> 2.8978241e+10 | BB44: 2.5713837e+10 | BC44: =BC14*(1-BC29) -> 2.486402e+10 | BD44: =BD14*(1-BD29) -> 2.3997699e+10 | BE44: =BE14*(1-BE29) -> 2.3543222e+10 | BF44: 2.1809691e+10 | BG44: =BG14*(1-BG29) -> 2.0132009e+10 | BH44: 2.1681074e+10 | BI44: =BI14*(1-BI29) -> 2.1437295e+10 | BJ44: =BJ14*(1-BJ29) -> 1.8207118e+10
